BEGIN:VCALENDAR
PRODID:-//Microsoft Corporation//Outlook 12.0 MIMEDIR//EN
VERSION:2.0
CALSCALE:GREGORIAN
BEGIN:VEVENT
UID: a669a01c-f96c-4ea0-84b2-cc33a0920086
SUMMARY:2023/2024 II p/a sündmused koolis
DTSTAMP:20240512
DTSTART:20240512
DTEND:20240622
DURATION:P41D
LOCATION:Kalmetu Kool
DESCRIPTION: <p><strong>Link: </strong>https://kalmetukool.ee/et/sundmuste-kalender/20232024-ii-pa-sundmused-koolis</p><p><strong>Hind: </strong></p>
STATUS:CONFIRMED
SEQUENCE:3
X-ALT-DESC;FMTTYPE=text/html:<p><strong>Link: </strong>https://kalmetukool.ee/et/sundmuste-kalender/20232024-ii-pa-sundmused-koolis</p><p><strong>Hind: </strong></p>
X-MICROSOFT-CDO-BUSYSTATUS:OOF
X-MICROSOFT-CDO-IMPORTANCE:1
X-MICROSOFT-DISALLOW-COUNTER:FALSE
X-MS-OLK-ALLOWEXTERNCHECK:TRUE
X-MS-OLK-CONFTYPE:0
X-MICROSOFT-CDO-ALLDAYEVENT:1
X-MICROSOFT-MSNCALENDAR-ALLDAYEVENT:1
END:VEVENT
END:VCALENDAR